BEGIN:VCALENDAR
VERSION:2.0
PRODID:-//IVREDH: Initiative pour une Vision Rurale, Educative et Durable en Haïti - ECPv6.15.19//NONSGML v1.0//EN
CALSCALE:GREGORIAN
METHOD:PUBLISH
X-WR-CALNAME:IVREDH: Initiative pour une Vision Rurale, Educative et Durable en Haïti
X-ORIGINAL-URL:https://ivredh.com
X-WR-CALDESC:Évènements pour IVREDH: Initiative pour une Vision Rurale, Educative et Durable en Haïti
REFRESH-INTERVAL;VALUE=DURATION:PT1H
X-Robots-Tag:noindex
X-PUBLISHED-TTL:PT1H
BEGIN:VTIMEZONE
TZID:UTC
BEGIN:STANDARD
TZOFFSETFROM:+0000
TZOFFSETTO:+0000
TZNAME:UTC
DTSTART:20250101T000000
END:STANDARD
END:VTIMEZONE
BEGIN:VEVENT
DTSTART;VALUE=DATE:20260902
DTEND;VALUE=DATE:20260903
DTSTAMP:20260419T215318
CREATED:20251016T181819Z
LAST-MODIFIED:20251016T203026Z
UID:1244-1788307200-1788393599@ivredh.com
SUMMARY:Distribution des kits scolaires
DESCRIPTION:Le grand jour est arrivé ! En septembre 2026\, IVREDH organisera une *cérémonie de distribution des kits scolaires dans les zones ciblées. Chaque bénéficiaire recevra un kit complet comprenant sacs\, cahiers\, fournitures de base\, et matériel pédagogique adapté à son niveau. Cet événement\, placé sous le signe de *la solidarité et de l’espoir\, vise à réduire les inégalités scolaires* et motiver les enfants à poursuivre leurs études dans la dignité.
URL:https://ivredh.com/event/distribution-des-kits-scolaires/
LOCATION:Thélice\, 13\, 8ème section commune Saint-Louis du Sud\, Cayes\, Saint-Louis du Sud\, 6110\, Haiti
ATTACH;FMTTYPE=image/jpeg:https://ivredh.com/wp-content/uploads/2025/10/Distribution-des-kits-scaled.jpg
ORGANIZER;CN="IVREDH":MAILTO:info@ivredh.com
END:VEVENT
END:VCALENDAR